BEGIN:VCALENDAR
VERSION:2.0
PRODID:-//Bryerswood Youth Camp Optimist Club - ECPv6.15.20//NONSGML v1.0//EN
CALSCALE:GREGORIAN
METHOD:PUBLISH
X-ORIGINAL-URL:https://bryerswood.com
X-WR-CALDESC:Events for Bryerswood Youth Camp Optimist Club
REFRESH-INTERVAL;VALUE=DURATION:PT1H
X-Robots-Tag:noindex
X-PUBLISHED-TTL:PT1H
BEGIN:VTIMEZONE
TZID:America/Toronto
BEGIN:DAYLIGHT
TZOFFSETFROM:-0500
TZOFFSETTO:-0400
TZNAME:EDT
DTSTART:20230312T070000
END:DAYLIGHT
BEGIN:STANDARD
TZOFFSETFROM:-0400
TZOFFSETTO:-0500
TZNAME:EST
DTSTART:20231105T060000
END:STANDARD
BEGIN:DAYLIGHT
TZOFFSETFROM:-0500
TZOFFSETTO:-0400
TZNAME:EDT
DTSTART:20240310T070000
END:DAYLIGHT
BEGIN:STANDARD
TZOFFSETFROM:-0400
TZOFFSETTO:-0500
TZNAME:EST
DTSTART:20241103T060000
END:STANDARD
BEGIN:DAYLIGHT
TZOFFSETFROM:-0500
TZOFFSETTO:-0400
TZNAME:EDT
DTSTART:20250309T070000
END:DAYLIGHT
BEGIN:STANDARD
TZOFFSETFROM:-0400
TZOFFSETTO:-0500
TZNAME:EST
DTSTART:20251102T060000
END:STANDARD
END:VTIMEZONE
BEGIN:VEVENT
DTSTART;TZID=America/Toronto:20241115T083000
DTEND;TZID=America/Toronto:20241115T170000
DTSTAMP:20260424T213138
CREATED:20241104T024247Z
LAST-MODIFIED:20241104T024253Z
UID:5248-1731659400-1731690000@bryerswood.com
SUMMARY:Great Bryerswood Bakeoff
DESCRIPTION:Test out your kitchen skills during the Great Bryerswood Bakeoff \n\n\n\nBake something new and see if you like it. \n\n\n\nHave fun with your friends
URL:https://bryerswood.com/event/great-bryerswood-bakeoff/
LOCATION:Bryerswood Youth Camp\, 6480 Texas Road\, Amherstburg\, Ontario
CATEGORIES:2024 Event,Day Camp,new
ATTACH;FMTTYPE=image/png:https://bryerswood.com/wp-content/uploads/2024/11/Great-Canadian-Bakeoff.png
END:VEVENT
END:VCALENDAR