BEGIN:VCALENDAR
VERSION:2.0
PRODID:-//Bryerswood Youth Camp Optimist Club - ECPv6.15.20//NONSGML v1.0//EN
CALSCALE:GREGORIAN
METHOD:PUBLISH
X-ORIGINAL-URL:https://bryerswood.com
X-WR-CALDESC:Events for Bryerswood Youth Camp Optimist Club
REFRESH-INTERVAL;VALUE=DURATION:PT1H
X-Robots-Tag:noindex
X-PUBLISHED-TTL:PT1H
BEGIN:VTIMEZONE
TZID:America/Toronto
BEGIN:DAYLIGHT
TZOFFSETFROM:-0500
TZOFFSETTO:-0400
TZNAME:EDT
DTSTART:20230312T070000
END:DAYLIGHT
BEGIN:STANDARD
TZOFFSETFROM:-0400
TZOFFSETTO:-0500
TZNAME:EST
DTSTART:20231105T060000
END:STANDARD
BEGIN:DAYLIGHT
TZOFFSETFROM:-0500
TZOFFSETTO:-0400
TZNAME:EDT
DTSTART:20240310T070000
END:DAYLIGHT
BEGIN:STANDARD
TZOFFSETFROM:-0400
TZOFFSETTO:-0500
TZNAME:EST
DTSTART:20241103T060000
END:STANDARD
BEGIN:DAYLIGHT
TZOFFSETFROM:-0500
TZOFFSETTO:-0400
TZNAME:EDT
DTSTART:20250309T070000
END:DAYLIGHT
BEGIN:STANDARD
TZOFFSETFROM:-0400
TZOFFSETTO:-0500
TZNAME:EST
DTSTART:20251102T060000
END:STANDARD
END:VTIMEZONE
BEGIN:VEVENT
DTSTART;TZID=America/Toronto:20240311T083000
DTEND;TZID=America/Toronto:20240315T160000
DTSTAMP:20260425T084254
CREATED:20240206T180420Z
LAST-MODIFIED:20240206T180434Z
UID:4977-1710145800-1710518400@bryerswood.com
SUMMARY:March Break Day Camps
DESCRIPTION:Day Camps run ALL WEEK – MARCH 11 to MARCH 15 \n\n\n\nRegister for one day or every day. \n\n\n\nGrab your backpack and your map! Blast off into space\, then dive deep into the ocean. Prep your sled to explore the Arctic\, feel the sand between your toes in the desert\, then fall back into the past. Get ready to explore the far corners of our world. What will we discover? \n\n\n\nMONDAY: $35 – Travel to the Desert: Slather on your sunscreen and you are going to need a hat. We are going to hunt for fossils and maybe find some dinosaurs. \n\n\n\nTUESDAY: $35 – Blast into Outer Space: Channel your inner astronaut by building your own rocket! You will explore the solar system and our galaxies and have a sweet treat with Marshmallow constellations. \n\n\n\nWEDNESDAY: $35 – Dive into the Ocean: Put on your swimmies and be a shark while experimenting with salt water science and learning how to speak fish with eco-location. No life jacket required! \n\n\n\nTHURSDAY: $35 – Sled into the Arctic: Did you know a group of penguins is called a Waddle and you can make an igloo out of sugar cubes\, and that polar bears really aren’t white? Work together as a team to build your own sled. We will hold our own Bryerswood Iditarod races. \n\n\n\nFRIDAY: $45 – Field Trip: Location to be announced. Fee is an additional $10 = $45 for the day. Please use March Break Extraordinary Explorers Friday Program in Camp Registration to register for this day.
URL:https://bryerswood.com/event/march-break-day-camps-2/
LOCATION:Bryerswood Youth Camp\, 6480 Texas Road\, Amherstburg\, Ontario\, Canada
CATEGORIES:2024 Event,Day Camp,event,new
END:VEVENT
END:VCALENDAR