BEGIN:VCALENDAR
VERSION:2.0
PRODID:-//Bryerswood Youth Camp Optimist Club - ECPv6.15.20//NONSGML v1.0//EN
CALSCALE:GREGORIAN
METHOD:PUBLISH
X-WR-CALNAME:Bryerswood Youth Camp Optimist Club
X-ORIGINAL-URL:https://bryerswood.com
X-WR-CALDESC:Events for Bryerswood Youth Camp Optimist Club
REFRESH-INTERVAL;VALUE=DURATION:PT1H
X-Robots-Tag:noindex
X-PUBLISHED-TTL:PT1H
BEGIN:VTIMEZONE
TZID:America/Toronto
BEGIN:DAYLIGHT
TZOFFSETFROM:-0500
TZOFFSETTO:-0400
TZNAME:EDT
DTSTART:20220313T070000
END:DAYLIGHT
BEGIN:STANDARD
TZOFFSETFROM:-0400
TZOFFSETTO:-0500
TZNAME:EST
DTSTART:20221106T060000
END:STANDARD
BEGIN:DAYLIGHT
TZOFFSETFROM:-0500
TZOFFSETTO:-0400
TZNAME:EDT
DTSTART:20230312T070000
END:DAYLIGHT
BEGIN:STANDARD
TZOFFSETFROM:-0400
TZOFFSETTO:-0500
TZNAME:EST
DTSTART:20231105T060000
END:STANDARD
BEGIN:DAYLIGHT
TZOFFSETFROM:-0500
TZOFFSETTO:-0400
TZNAME:EDT
DTSTART:20240310T070000
END:DAYLIGHT
BEGIN:STANDARD
TZOFFSETFROM:-0400
TZOFFSETTO:-0500
TZNAME:EST
DTSTART:20241103T060000
END:STANDARD
END:VTIMEZONE
BEGIN:VEVENT
DTSTART;TZID=America/Toronto:20230120T090000
DTEND;TZID=America/Toronto:20230120T150000
DTSTAMP:20260423T234010
CREATED:20221203T203436Z
LAST-MODIFIED:20230113T164055Z
UID:4150-1674205200-1674226800@bryerswood.com
SUMMARY:Animals in the Winter January 20 Day Camp
DESCRIPTION:January 20 \n\n\n\nDay Camp runs 9 to 3  \n\n\n\nEarly drop-off and late pick-up available for a small extra charge \n\n\n\nAges 4-6 and 7-11 \n\n\n\nBring your own lunch.  Two snacks per day provided \n\n\n\n \n\n\n\nRegister: Click on Reservations & Registrations to register
URL:https://bryerswood.com/event/animals-in-the-winter/
LOCATION:Bryerswood Youth Camp\, 6480 Texas Road\, Amherstburg\, Ontario\, Canada
CATEGORIES:2023 Event,event,new,Outdoor Events
END:VEVENT
END:VCALENDAR