BEGIN:VCALENDAR
VERSION:2.0
PRODID:-//Bryerswood Youth Camp Optimist Club - ECPv6.15.20//NONSGML v1.0//EN
CALSCALE:GREGORIAN
METHOD:PUBLISH
X-WR-CALNAME:Bryerswood Youth Camp Optimist Club
X-ORIGINAL-URL:https://bryerswood.com
X-WR-CALDESC:Events for Bryerswood Youth Camp Optimist Club
REFRESH-INTERVAL;VALUE=DURATION:PT1H
X-Robots-Tag:noindex
X-PUBLISHED-TTL:PT1H
BEGIN:VTIMEZONE
TZID:America/Toronto
BEGIN:DAYLIGHT
TZOFFSETFROM:-0500
TZOFFSETTO:-0400
TZNAME:EDT
DTSTART:20230312T070000
END:DAYLIGHT
BEGIN:STANDARD
TZOFFSETFROM:-0400
TZOFFSETTO:-0500
TZNAME:EST
DTSTART:20231105T060000
END:STANDARD
BEGIN:DAYLIGHT
TZOFFSETFROM:-0500
TZOFFSETTO:-0400
TZNAME:EDT
DTSTART:20240310T070000
END:DAYLIGHT
BEGIN:STANDARD
TZOFFSETFROM:-0400
TZOFFSETTO:-0500
TZNAME:EST
DTSTART:20241103T060000
END:STANDARD
BEGIN:DAYLIGHT
TZOFFSETFROM:-0500
TZOFFSETTO:-0400
TZNAME:EDT
DTSTART:20250309T070000
END:DAYLIGHT
BEGIN:STANDARD
TZOFFSETFROM:-0400
TZOFFSETTO:-0500
TZNAME:EST
DTSTART:20251102T060000
END:STANDARD
END:VTIMEZONE
BEGIN:VEVENT
DTSTART;TZID=America/Toronto:20241213T173000
DTEND;TZID=America/Toronto:20241215T203000
DTSTAMP:20260424T214545
CREATED:20241213T132002Z
LAST-MODIFIED:20241213T140158Z
UID:5300-1734111000-1734294600@bryerswood.com
SUMMARY:Gingerbread Warming House Hot Chocolate
DESCRIPTION:Enjoy a cup of Hot Chocolate while viewing the RIVER LIGHTS. \n\n\n\nThe Gingerbread Warming House is open Friday\, Saturday and Sunday nights this weekend from 5:30 to 8:30. \n\n\n\nTalk to your servers and find out what is happening at BRYERSWOOD YOUTH CAMP. \n\n\n\nDonations accepted to help support the work of the camp.
URL:https://bryerswood.com/event/gingerbread-warming-house-hot-chocolate-3/
LOCATION:Gingerbread Warming House\, 50 North Street\, Amherstburg\, Ontario\, N9V1E3
CATEGORIES:2024 Event,new,Outdoor Events
ATTACH;FMTTYPE=image/png:https://bryerswood.com/wp-content/uploads/2024/12/Hot-Chocolate.png
END:VEVENT
END:VCALENDAR