BEGIN:VCALENDAR
VERSION:2.0
PRODID:-//Bryerswood Youth Camp Optimist Club - ECPv6.15.20//NONSGML v1.0//EN
CALSCALE:GREGORIAN
METHOD:PUBLISH
X-ORIGINAL-URL:https://bryerswood.com
X-WR-CALDESC:Events for Bryerswood Youth Camp Optimist Club
REFRESH-INTERVAL;VALUE=DURATION:PT1H
X-Robots-Tag:noindex
X-PUBLISHED-TTL:PT1H
BEGIN:VTIMEZONE
TZID:America/Toronto
BEGIN:DAYLIGHT
TZOFFSETFROM:-0500
TZOFFSETTO:-0400
TZNAME:EDT
DTSTART:20220313T070000
END:DAYLIGHT
BEGIN:STANDARD
TZOFFSETFROM:-0400
TZOFFSETTO:-0500
TZNAME:EST
DTSTART:20221106T060000
END:STANDARD
BEGIN:DAYLIGHT
TZOFFSETFROM:-0500
TZOFFSETTO:-0400
TZNAME:EDT
DTSTART:20230312T070000
END:DAYLIGHT
BEGIN:STANDARD
TZOFFSETFROM:-0400
TZOFFSETTO:-0500
TZNAME:EST
DTSTART:20231105T060000
END:STANDARD
BEGIN:DAYLIGHT
TZOFFSETFROM:-0500
TZOFFSETTO:-0400
TZNAME:EDT
DTSTART:20240310T070000
END:DAYLIGHT
BEGIN:STANDARD
TZOFFSETFROM:-0400
TZOFFSETTO:-0500
TZNAME:EST
DTSTART:20241103T060000
END:STANDARD
BEGIN:DAYLIGHT
TZOFFSETFROM:-0500
TZOFFSETTO:-0400
TZNAME:EDT
DTSTART:20250309T070000
END:DAYLIGHT
BEGIN:STANDARD
TZOFFSETFROM:-0400
TZOFFSETTO:-0500
TZNAME:EST
DTSTART:20251102T060000
END:STANDARD
END:VTIMEZONE
BEGIN:VEVENT
DTSTART;TZID=America/Toronto:20240403T170000
DTEND;TZID=America/Toronto:20240403T190000
DTSTAMP:20260424T005011
CREATED:20240322T191309Z
LAST-MODIFIED:20240322T191320Z
UID:5003-1712163600-1712170800@bryerswood.com
SUMMARY:Volunteer Recruitment Fair
DESCRIPTION:Looking to give back to your communtiy? \n\n\n\nLooking for something to do? \n\n\n\n\n\n\n\nNeed Community Service hours? \n\n\n\nCome meet with local non-profit organizations and learn about opportunities
URL:https://bryerswood.com/event/volunteer-recruitment-fair/
LOCATION:Amherstburg Community Services\, 320 Richmond St\, Amherstburg\, ON\, Canada
CATEGORIES:2024 Event,event,new
END:VEVENT
BEGIN:VEVENT
DTSTART;TZID=America/Toronto:20240323T203000
DTEND;TZID=America/Toronto:20240323T213000
DTSTAMP:20260424T005011
CREATED:20240312T145501Z
LAST-MODIFIED:20240312T145506Z
UID:4993-1711225800-1711229400@bryerswood.com
SUMMARY:Earth Hour
DESCRIPTION:Join the global movement and participate in an hour of celebrating the Earth! \n\n\n\nShut off the lights. \n\n\n\nShut off the TV. \n\n\n\nGo outside  \n\n\n\nPlay a game or read a book by flashlight. \n\n\n\nTell stories. \n\n\n\nGet creative. The possibilities are endless.
URL:https://bryerswood.com/event/earth-hour/
LOCATION:ON
CATEGORIES:2024 Event,event,new
ATTACH;FMTTYPE=image/png:https://bryerswood.com/wp-content/uploads/2024/03/Earth-Hour.png
END:VEVENT
BEGIN:VEVENT
DTSTART;TZID=America/Toronto:20240322T180000
DTEND;TZID=America/Toronto:20240322T210000
DTSTAMP:20260424T005011
CREATED:20240312T151048Z
LAST-MODIFIED:20240312T151054Z
UID:4995-1711130400-1711141200@bryerswood.com
SUMMARY:Windsor Express Earth Hour Game
DESCRIPTION:Meet YQG Green members at the pre-game exhibits. Talk with them about Earth friendly activities. \n\n\n\nDoor open at 6pm \n\n\n\nGame starts of 7pm
URL:https://bryerswood.com/event/windsor-express-earth-hour-game/
LOCATION:WFCU\, 8787 McHugh St\, Windsor
CATEGORIES:2024 Event,event,new
END:VEVENT
BEGIN:VEVENT
DTSTART;TZID=America/Toronto:20240311T083000
DTEND;TZID=America/Toronto:20240315T160000
DTSTAMP:20260424T005011
CREATED:20240206T180420Z
LAST-MODIFIED:20240206T180434Z
UID:4977-1710145800-1710518400@bryerswood.com
SUMMARY:March Break Day Camps
DESCRIPTION:Day Camps run ALL WEEK – MARCH 11 to MARCH 15 \n\n\n\nRegister for one day or every day. \n\n\n\nGrab your backpack and your map! Blast off into space\, then dive deep into the ocean. Prep your sled to explore the Arctic\, feel the sand between your toes in the desert\, then fall back into the past. Get ready to explore the far corners of our world. What will we discover? \n\n\n\nMONDAY: $35 – Travel to the Desert: Slather on your sunscreen and you are going to need a hat. We are going to hunt for fossils and maybe find some dinosaurs. \n\n\n\nTUESDAY: $35 – Blast into Outer Space: Channel your inner astronaut by building your own rocket! You will explore the solar system and our galaxies and have a sweet treat with Marshmallow constellations. \n\n\n\nWEDNESDAY: $35 – Dive into the Ocean: Put on your swimmies and be a shark while experimenting with salt water science and learning how to speak fish with eco-location. No life jacket required! \n\n\n\nTHURSDAY: $35 – Sled into the Arctic: Did you know a group of penguins is called a Waddle and you can make an igloo out of sugar cubes\, and that polar bears really aren’t white? Work together as a team to build your own sled. We will hold our own Bryerswood Iditarod races. \n\n\n\nFRIDAY: $45 – Field Trip: Location to be announced. Fee is an additional $10 = $45 for the day. Please use March Break Extraordinary Explorers Friday Program in Camp Registration to register for this day.
URL:https://bryerswood.com/event/march-break-day-camps-2/
LOCATION:Bryerswood Youth Camp\, 6480 Texas Road\, Amherstburg\, Ontario\, Canada
CATEGORIES:2024 Event,Day Camp,event,new
END:VEVENT
BEGIN:VEVENT
DTSTART;TZID=America/Toronto:20240216T083000
DTEND;TZID=America/Toronto:20240216T160000
DTSTAMP:20260424T005011
CREATED:20240102T033351Z
LAST-MODIFIED:20240102T033358Z
UID:4947-1708072200-1708099200@bryerswood.com
SUMMARY:Beach Bash Day Camp
DESCRIPTION:Chase away your cold winter blues with some fun in the sun activities. \n\n\n\nLearn to Hula \n\n\n\nBuild a sand castle \n\n\n\nSurf into a splashing fun time. \n\n\n\nEarly drop off and late pickup available for a small extra charge. \n\n\n\nBring your own lunch.
URL:https://bryerswood.com/event/beach-bash-day-camp/
LOCATION:Bryerswood Youth Camp\, 6480 Texas Road\, Amherstburg\, Ontario\, Canada
CATEGORIES:2024 Event,Day Camp,new
END:VEVENT
BEGIN:VEVENT
DTSTART;TZID=America/Toronto:20240119T083000
DTEND;TZID=America/Toronto:20240119T160000
DTSTAMP:20260424T005011
CREATED:20240102T005148Z
LAST-MODIFIED:20240102T033122Z
UID:4943-1705653000-1705680000@bryerswood.com
SUMMARY:Art Attack Day Camp
DESCRIPTION:Channel your inner Bob Ross as we have an ART ATTACK! \n\n\n\nFold up a little something with some Origami. \n\n\n\nGet your hands dirty with clay sculpting. \n\n\n\nCreate some edible art that would make Martha Stewart proud!! \n\n\n\nJoin us for Art Attack \n\n\n\nEarly pick up and late drop off available for an extra charge. \n\n\n\nBring your own lunch.
URL:https://bryerswood.com/event/art-attack-day-camp/
LOCATION:Bryerswood Youth Camp\, 6480 Texas Road\, Amherstburg\, Ontario\, Canada
CATEGORIES:2024 Event,Day Camp,new
END:VEVENT
BEGIN:VEVENT
DTSTART;TZID=America/Toronto:20240103T083000
DTEND;TZID=America/Toronto:20240103T160000
DTSTAMP:20260424T005011
CREATED:20231203T010325Z
LAST-MODIFIED:20231203T010329Z
UID:4900-1704270600-1704297600@bryerswood.com
SUMMARY:Kids in the Kitchen - Session 1
DESCRIPTION:Cook Easy Meals & Snacks \n\n\n\nBake Tasty Treats \n\n\n\nCook Different Items Each Day \n\n\n\nLunch will be Provided \n\n\n\nEarly Drop off and Late Pick up is available \n\n\n\nProgram begins at 9 AM
URL:https://bryerswood.com/event/kids-in-the-kitchen-session-1/
LOCATION:Bryerswood Youth Camp\, 6480 Texas Road\, Amherstburg\, Ontario\, Canada
CATEGORIES:2023 Event,Day Camp,event,new
END:VEVENT
BEGIN:VEVENT
DTSTART;TZID=America/Toronto:20231216T120000
DTEND;TZID=America/Toronto:20231216T160000
DTSTAMP:20260424T005011
CREATED:20231203T005450Z
LAST-MODIFIED:20231203T005603Z
UID:4895-1702728000-1702742400@bryerswood.com
SUMMARY:Cookies & Hot Cocoa - Session 2
DESCRIPTION:Activities Include: \n\n\n\nCookie Decorating \n\n\n\nMaking No-Bake Treats \n\n\n\nCrafts \n\n\n\nGames \n\n\n\nWear your best Ugly Sweater \n\n\n\nThis is a great opportunity for parents to go out or go shopping without their children
URL:https://bryerswood.com/event/cookies-hot-cocoa-session-2/
LOCATION:Bryerswood Youth Camp\, 6480 Texas Road\, Amherstburg\, Ontario\, Canada
CATEGORIES:2023 Event,event,new
END:VEVENT
BEGIN:VEVENT
DTSTART;TZID=America/Toronto:20231215T170000
DTEND;TZID=America/Toronto:20231215T210000
DTSTAMP:20260424T005011
CREATED:20231203T004605Z
LAST-MODIFIED:20231203T004609Z
UID:4890-1702659600-1702674000@bryerswood.com
SUMMARY:Cookies & Hot Cocoa - Session 1
DESCRIPTION:Activities Include: \n\n\n\nDecorating Cookies \n\n\n\nMaking No-Bake Treats \n\n\n\nCrafts \n\n\n\nGames \n\n\n\nWear your best Ugly Sweater \n\n\n\nThis is a great opportunity for parents to go out or go shopping without their children
URL:https://bryerswood.com/event/cookies-hot-cocoa-session-1/
LOCATION:Bryerswood Youth Camp\, 6480 Texas Road\, Amherstburg\, Ontario\, Canada
CATEGORIES:2023 Event,event,new
END:VEVENT
BEGIN:VEVENT
DTSTART;TZID=America/Toronto:20231110T163000
DTEND;TZID=America/Toronto:20231110T183000
DTSTAMP:20260424T005011
CREATED:20231102T152650Z
LAST-MODIFIED:20231102T170948Z
UID:4868-1699633800-1699641000@bryerswood.com
SUMMARY:Fish Fry Fund Raising Dinner
DESCRIPTION:Bryerswood Youth Camp Optimist Club along with Knights of Columbus Council 2110 are hosting this delicious dinner. \n\n\n\n$11 – One piece of fish\, choice of baked potato or fries\, coleslaw\, dinner roll and butter \n\n\n\n$14 – Two pieces of fish\, choice of baked potato or fries\, coleslaw\, dinner roll and butter \n\n\n\n$12 – Broasted chicken with fries\, coleslaw\, dinner roll and butter \n\n\n\n$8 – Children’s Meal – Children 10 and Under \n\n\n\nPlease support our local camp which is available for use by all community youth groups.
URL:https://bryerswood.com/event/fish-fry-fund-raising-dinner/
LOCATION:Columbus Hall Amherstburg\, 190 Richmond St\, Amherstburg\, ON\, N9V 1G4
CATEGORIES:2023 Event,new
ATTACH;FMTTYPE=image/png:https://bryerswood.com/wp-content/uploads/2023/11/Fish-Dinner.png
END:VEVENT
BEGIN:VEVENT
DTSTART;TZID=America/Toronto:20230923T080000
DTEND;TZID=America/Toronto:20230923T150000
DTSTAMP:20260424T005011
CREATED:20230805T133810Z
LAST-MODIFIED:20230805T135803Z
UID:4486-1695456000-1695481200@bryerswood.com
SUMMARY:Golf Tournament
DESCRIPTION:
URL:https://bryerswood.com/event/golf-tournament-2/
LOCATION:Coachwood Golf & Country Club
CATEGORIES:2023 Event,new,Outdoor Events
END:VEVENT
BEGIN:VEVENT
DTSTART;TZID=America/Toronto:20230807T080000
DTEND;TZID=America/Toronto:20230811T170000
DTSTAMP:20260424T005011
CREATED:20230805T133104Z
LAST-MODIFIED:20230805T140123Z
UID:4482-1691395200-1691773200@bryerswood.com
SUMMARY:The "Science" of Fun - Week 4 Summer  Camp
DESCRIPTION:
URL:https://bryerswood.com/event/the-science-of-fun-week-4-summer-camp/
LOCATION:Bryerswood Youth Camp\, 6480 Texas Road\, Amherstburg\, Ontario\, Canada
CATEGORIES:2023 Event,Day Camp,new,Summer Camp
END:VEVENT
BEGIN:VEVENT
DTSTART;TZID=America/Toronto:20230731T080000
DTEND;TZID=America/Toronto:20230804T170000
DTSTAMP:20260424T005011
CREATED:20230525T020701Z
LAST-MODIFIED:20230525T025830Z
UID:4434-1690790400-1691168400@bryerswood.com
SUMMARY:Summer Camp Week 3 - Everyone C.A.M.P.S.
DESCRIPTION:
URL:https://bryerswood.com/event/summer-camp-week-3-everyone-c-a-m-p-s/
LOCATION:Bryerswood Youth Camp\, 6480 Texas Road\, Amherstburg\, Ontario\, Canada
CATEGORIES:2023 Event,Day Camp,new,Summer Camp
END:VEVENT
BEGIN:VEVENT
DTSTART;TZID=America/Toronto:20230724T080000
DTEND;TZID=America/Toronto:20230728T173000
DTSTAMP:20260424T005011
CREATED:20230504T175729Z
LAST-MODIFIED:20230525T013823Z
UID:4427-1690185600-1690565400@bryerswood.com
SUMMARY:Summer Camp Week 2
DESCRIPTION:
URL:https://bryerswood.com/event/summer-camp-week-2/
LOCATION:Bryerswood Youth Camp\, 6480 Texas Road\, Amherstburg\, Ontario\, Canada
CATEGORIES:2023 Event,Day Camp,event,new,Summer Camp
END:VEVENT
BEGIN:VEVENT
DTSTART;TZID=America/Toronto:20230710T080000
DTEND;TZID=America/Toronto:20230714T050000
DTSTAMP:20260424T005011
CREATED:20230504T173330Z
LAST-MODIFIED:20230504T173612Z
UID:4419-1688976000-1689310800@bryerswood.com
SUMMARY:Summer Camp Week 1 July 10 - 14
DESCRIPTION:
URL:https://bryerswood.com/event/summer-camp-week-1-july-10-14/
LOCATION:Bryerswood Youth Camp\, 6480 Texas Road\, Amherstburg\, Ontario\, Canada
CATEGORIES:2023 Event,Day Camp,new,Summer Camp
END:VEVENT
BEGIN:VEVENT
DTSTART;TZID=America/Toronto:20230609T090000
DTEND;TZID=America/Toronto:20230609T150000
DTSTAMP:20260424T005011
CREATED:20230504T171441Z
LAST-MODIFIED:20230608T230517Z
UID:4417-1686301200-1686322800@bryerswood.com
SUMMARY:Mess Maker Day Camp
DESCRIPTION:Get messy while exploring Art Projects\, Science Experiments and Camp Games \n\n\n\nBring clothes that you can get messy in \n\n\n\nBring your own lunch \n\n\n\nEarly drop off and late pick up is available for an extra charge
URL:https://bryerswood.com/event/mess-maker-day-camp/
LOCATION:Bryerswood Youth Camp\, 6480 Texas Road\, Amherstburg\, Ontario\, Canada
CATEGORIES:2023 Event,Day Camp,new
END:VEVENT
BEGIN:VEVENT
DTSTART;TZID=America/Toronto:20230422T100000
DTEND;TZID=America/Toronto:20230422T130000
DTSTAMP:20260424T005011
CREATED:20230329T202018Z
LAST-MODIFIED:20230416T234422Z
UID:4341-1682157600-1682168400@bryerswood.com
SUMMARY:Earth Day
DESCRIPTION:Activities and Displays for the whole family \n\n\n\nElectric Cars  –  Take a TESLA for a test drive \n\n\n\nTree and Native Plant Planting \n\n\n\nSolar Cooking \n\n\n\nHousehold Battery Collection \n\n\n\n“Lug a Mug” – Water Refill Stations set up around displays \n\n\n\nUrban Bites Food Truck
URL:https://bryerswood.com/event/earth-day/
LOCATION:Bryerswood Youth Camp\, 6480 Texas Road\, Amherstburg\, Ontario\, Canada
CATEGORIES:2023 Event,new,Outdoor Events
END:VEVENT
BEGIN:VEVENT
DTSTART;TZID=America/Toronto:20230313T090000
DTEND;TZID=America/Toronto:20230317T153000
DTSTAMP:20260424T005011
CREATED:20230122T200756Z
LAST-MODIFIED:20230122T200812Z
UID:4291-1678698000-1679067000@bryerswood.com
SUMMARY:March Break Day Camps
DESCRIPTION:Camps
URL:https://bryerswood.com/event/march-break-day-camps/
LOCATION:Bryerswood Youth Camp\, 6480 Texas Road\, Amherstburg\, Ontario\, Canada
CATEGORIES:2023 Event,Day Camp,new
END:VEVENT
BEGIN:VEVENT
DTSTART;TZID=America/Toronto:20230225T100000
DTEND;TZID=America/Toronto:20230226T160000
DTSTAMP:20260424T005011
CREATED:20230215T170108Z
LAST-MODIFIED:20230221T003054Z
UID:4316-1677319200-1677427200@bryerswood.com
SUMMARY:Model Train Show Food Booth
DESCRIPTION:UPDATE:  Due to unforeseen circumstances\, the Food Booth has been cancelled. \n\n\n\nSorry for any inconveniences this may cause.
URL:https://bryerswood.com/event/model-train-show-food-booth/
LOCATION:Essex Public School\, 72 Brien St. E.\, Essex\, Ontario\, N8M 2N8\, Canada
CATEGORIES:2023 Event,new
ATTACH;FMTTYPE=image/png:https://bryerswood.com/wp-content/uploads/2023/02/model-train-show.png
END:VEVENT
BEGIN:VEVENT
DTSTART;TZID=America/Toronto:20230217T090000
DTEND;TZID=America/Toronto:20230217T150000
DTSTAMP:20260424T005011
CREATED:20230122T195548Z
LAST-MODIFIED:20230122T204636Z
UID:4283-1676624400-1676646000@bryerswood.com
SUMMARY:Lego Day Camp
DESCRIPTION:A great day of fun is planned using Legos. \n\n\n\nAges 5 to 11 \n\n\n\nBring your imagination and your lunch
URL:https://bryerswood.com/event/lego-day-camp/
LOCATION:Bryerswood Youth Camp\, 6480 Texas Road\, Amherstburg\, Ontario\, Canada
CATEGORIES:2023 Event,Day Camp,new
END:VEVENT
BEGIN:VEVENT
DTSTART;TZID=America/Toronto:20230128T180000
DTEND;TZID=America/Toronto:20230129T000000
DTSTAMP:20260424T005011
CREATED:20221222T183407Z
LAST-MODIFIED:20230116T030225Z
UID:4238-1674928800-1674950400@bryerswood.com
SUMMARY:Annual Chicken or Rib Dinner
DESCRIPTION:Doors open at 6 \n\n\n\nDinner at 7 \n\n\n\nDoor prizes\, Raffles\, 50/50 Draw \n\n\n\nTickets: \n\n\n\nCaitlin: 519-995-5289 \n\n\n\nMarie: 519-564-1252 \n\n\n\nMary Ann: 519-988-6420 \n\n\n\nKathi: 519-776-6228
URL:https://bryerswood.com/event/annual-chicken-or-rib-dinner/
LOCATION:Columbus Hall River Canard\, 8965 Malden Rd\,\, LaSalle\, ON\, N9J 2V9
CATEGORIES:2023 Event,event,new
ATTACH;FMTTYPE=image/png:https://bryerswood.com/wp-content/uploads/2022/12/chicken-and-rib.png
END:VEVENT
BEGIN:VEVENT
DTSTART;TZID=America/Toronto:20230120T090000
DTEND;TZID=America/Toronto:20230120T150000
DTSTAMP:20260424T005011
CREATED:20221203T203436Z
LAST-MODIFIED:20230113T164055Z
UID:4150-1674205200-1674226800@bryerswood.com
SUMMARY:Animals in the Winter January 20 Day Camp
DESCRIPTION:January 20 \n\n\n\nDay Camp runs 9 to 3  \n\n\n\nEarly drop-off and late pick-up available for a small extra charge \n\n\n\nAges 4-6 and 7-11 \n\n\n\nBring your own lunch.  Two snacks per day provided \n\n\n\n \n\n\n\nRegister: Click on Reservations & Registrations to register
URL:https://bryerswood.com/event/animals-in-the-winter/
LOCATION:Bryerswood Youth Camp\, 6480 Texas Road\, Amherstburg\, Ontario\, Canada
CATEGORIES:2023 Event,event,new,Outdoor Events
END:VEVENT
END:VCALENDAR