BEGIN:VCALENDAR
VERSION:2.0
PRODID:-//Bryerswood Youth Camp Optimist Club - ECPv6.15.20//NONSGML v1.0//EN
CALSCALE:GREGORIAN
METHOD:PUBLISH
X-WR-CALNAME:Bryerswood Youth Camp Optimist Club
X-ORIGINAL-URL:https://bryerswood.com
X-WR-CALDESC:Events for Bryerswood Youth Camp Optimist Club
REFRESH-INTERVAL;VALUE=DURATION:PT1H
X-Robots-Tag:noindex
X-PUBLISHED-TTL:PT1H
BEGIN:VTIMEZONE
TZID:America/Toronto
BEGIN:DAYLIGHT
TZOFFSETFROM:-0500
TZOFFSETTO:-0400
TZNAME:EDT
DTSTART:20240310T070000
END:DAYLIGHT
BEGIN:STANDARD
TZOFFSETFROM:-0400
TZOFFSETTO:-0500
TZNAME:EST
DTSTART:20241103T060000
END:STANDARD
BEGIN:DAYLIGHT
TZOFFSETFROM:-0500
TZOFFSETTO:-0400
TZNAME:EDT
DTSTART:20250309T070000
END:DAYLIGHT
BEGIN:STANDARD
TZOFFSETFROM:-0400
TZOFFSETTO:-0500
TZNAME:EST
DTSTART:20251102T060000
END:STANDARD
BEGIN:DAYLIGHT
TZOFFSETFROM:-0500
TZOFFSETTO:-0400
TZNAME:EDT
DTSTART:20260308T070000
END:DAYLIGHT
BEGIN:STANDARD
TZOFFSETFROM:-0400
TZOFFSETTO:-0500
TZNAME:EST
DTSTART:20261101T060000
END:STANDARD
BEGIN:DAYLIGHT
TZOFFSETFROM:-0500
TZOFFSETTO:-0400
TZNAME:EDT
DTSTART:20270314T070000
END:DAYLIGHT
BEGIN:STANDARD
TZOFFSETFROM:-0400
TZOFFSETTO:-0500
TZNAME:EST
DTSTART:20271107T060000
END:STANDARD
END:VTIMEZONE
BEGIN:VEVENT
DTSTART;TZID=America/Toronto:20251115T173000
DTEND;TZID=America/Toronto:20251116T203000
DTSTAMP:20260425T071557
CREATED:20251107T233921Z
LAST-MODIFIED:20251108T002625Z
UID:5581-1763227800-1763325000@bryerswood.com
SUMMARY:Hot Chocolate at the Warming House
DESCRIPTION:During the River Lights Festival\, come grab a HOT CHOCOLATE at the Warming House. \n\n\n\nThe Warming House is open during the weekends only\, from 5:30 pm to 8:30 pm. \n\n\n\nDonations are accepted and will be used to support the Bryerswood Youth Camp.
URL:https://bryerswood.com/event/hot-chocolate-at-the-warming-house/
LOCATION:Toddy Jones Park Amherstburg\, 50 North Street\, Amherstburg
CATEGORIES:2025 Event,event,new,Outdoor Events
ATTACH;FMTTYPE=image/jpeg:https://bryerswood.com/wp-content/uploads/2025/11/Wet-scaled.jpg
END:VEVENT
BEGIN:VEVENT
DTSTART;TZID=America/Toronto:20251121T173000
DTEND;TZID=America/Toronto:20251123T203000
DTSTAMP:20260425T071557
CREATED:20251108T002502Z
LAST-MODIFIED:20251108T002510Z
UID:5586-1763746200-1763929800@bryerswood.com
SUMMARY:River Lights Festival Warming House Hot Chocolate
DESCRIPTION:During the River Lights Festival\, come grab a HOT CHOCOLATE at the Warming House. \n\n\n\nThe Warming House is open during the weekends only\, from 5:30 pm to 8:30 pm. \n\n\n\nDonations are accepted and will be used to support the Bryerswood Youth Camp.
URL:https://bryerswood.com/event/river-lights-festival-warming-house-hot-chocolate/
LOCATION:Toddy Jones Park Amherstburg\, 50 North Street\, Amherstburg
CATEGORIES:2025 Event,event,new,Outdoor Events
ATTACH;FMTTYPE=image/jpeg:https://bryerswood.com/wp-content/uploads/2025/11/South-and-West-scaled.jpg
END:VEVENT
BEGIN:VEVENT
DTSTART;TZID=America/Toronto:20251128T173000
DTEND;TZID=America/Toronto:20251130T203000
DTSTAMP:20260425T071557
CREATED:20251108T004903Z
LAST-MODIFIED:20251118T163607Z
UID:5591-1764351000-1764534600@bryerswood.com
SUMMARY:Warming House Hot Chocolate
DESCRIPTION:During the River Lights Festival\, come grab a HOT CHOCOLATE at the Warming House. \n\n\n\nThe Warming House is open during the weekends only\, from 5:30 pm to 8:30 pm. \n\n\n\nDonations are accepted and will be used to support the Bryerswood Youth Camp.
URL:https://bryerswood.com/event/warming-house-hot-chocolate/
LOCATION:Toddy Jones Park Amherstburg\, 50 North Street\, Amherstburg
CATEGORIES:2025 Event,event,new,Outdoor Events
ATTACH;FMTTYPE=image/jpeg:https://bryerswood.com/wp-content/uploads/2025/11/South-and-West-scaled.jpg
END:VEVENT
BEGIN:VEVENT
DTSTART;TZID=America/Toronto:20251202T000000
DTEND;TZID=America/Toronto:20251202T235959
DTSTAMP:20260425T071557
CREATED:20251111T215257Z
LAST-MODIFIED:20251201T170141Z
UID:5613-1764633600-1764719999@bryerswood.com
SUMMARY:GIVING TUESDAY
DESCRIPTION:Please help Bryerswood reach our MAKE BRYERSWOOD EVEN BETTER  fundraising goal by giving on GIVING TUESDAY. \n\n\n\nDonations up to $1500 made on Giving Tuesday will be matched by private donors. \n\n\n\nGo to https://bryerswood.com/DONATE/ to give.
URL:https://bryerswood.com/event/giving-tuesday/
LOCATION:Ontario
CATEGORIES:2025 Event,new
ATTACH;FMTTYPE=image/png:https://bryerswood.com/wp-content/uploads/2025/11/Taking-Part.png
END:VEVENT
BEGIN:VEVENT
DTSTART;TZID=America/Toronto:20251205T173000
DTEND;TZID=America/Toronto:20251207T203000
DTSTAMP:20260425T071557
CREATED:20251118T163428Z
LAST-MODIFIED:20251118T163434Z
UID:5627-1764955800-1765139400@bryerswood.com
SUMMARY:River Lights Festival Hot Chocolate
DESCRIPTION:On Friday\, Saturday and Sunday evening\, between 5:30 and 8:30\, come visit the Bryerswood Youth Camp table in the Warming House and grab a hot chocolate to enjoy while viewing the lights! \n\n\n\nDonations are accepted to support Bryerswood.
URL:https://bryerswood.com/event/river-lights-festival-hot-chocolate/
LOCATION:Toddy Jones Park Amherstburg\, 50 North Street\, Amherstburg
CATEGORIES:2025 Event,event,new
ATTACH;FMTTYPE=image/png:https://bryerswood.com/wp-content/uploads/2024/12/Hot-Chocolate.png
END:VEVENT
BEGIN:VEVENT
DTSTART;TZID=America/Toronto:20251212T173000
DTEND;TZID=America/Toronto:20251214T203000
DTSTAMP:20260425T071557
CREATED:20251118T171556Z
LAST-MODIFIED:20251118T171602Z
UID:5631-1765560600-1765744200@bryerswood.com
SUMMARY:Hot Chocolate at the River Lights Festival
DESCRIPTION:Friday\, Saturday and Sunday night from 5:30 to 8:30 grab your hot chocolate from the Warming House in Toddy Jones Park. \n\n\n\nAll donations support Bryerswood Youth Camp.
URL:https://bryerswood.com/event/hot-chocolate-at-the-river-lights-festival/
LOCATION:Toddy Jones Park Amherstburg\, 50 North Street\, Amherstburg
CATEGORIES:2025 Event,event,new
ATTACH;FMTTYPE=image/png:https://bryerswood.com/wp-content/uploads/2025/11/Screenshot-2025-11-11-081521.png
END:VEVENT
BEGIN:VEVENT
DTSTART;TZID=America/Toronto:20251219T173000
DTEND;TZID=America/Toronto:20251221T203000
DTSTAMP:20260425T071557
CREATED:20251118T172244Z
LAST-MODIFIED:20251118T172251Z
UID:5633-1766165400-1766349000@bryerswood.com
SUMMARY:Last Weekend to Enjoy Hot Chocolate at the Warming House
DESCRIPTION:It is the last weekend to enjoy a Hot Chocolate from the Warming House. \n\n\n\nOn Friday\, Saturday and Sunday night from 5:30 to 8:30 visit the BRYERSWOOD YOUTH CAMP table to get your hot chocolate. \n\n\n\nAll donations support Bryerswood Youth Camp.
URL:https://bryerswood.com/event/last-weekend-to-enjoy-hot-chocolate-at-the-warming-house/
LOCATION:Toddy Jones Park Amherstburg\, 50 North Street\, Amherstburg
CATEGORIES:2025 Event,event,new
ATTACH;FMTTYPE=image/png:https://bryerswood.com/wp-content/uploads/2025/11/Screenshot-2025-11-11-071240.png
END:VEVENT
BEGIN:VEVENT
DTSTART;TZID=America/Toronto:20260227T083000
DTEND;TZID=America/Toronto:20260227T160000
DTSTAMP:20260425T071557
CREATED:20260206T122107Z
LAST-MODIFIED:20260206T122114Z
UID:5666-1772181000-1772208000@bryerswood.com
SUMMARY:Beakers & Bubbles PD Day Camp
DESCRIPTION:
URL:https://bryerswood.com/event/beakers-bubbles-pd-day-camp/
LOCATION:Bryerswood Youth Camp\, 6480 Texas Road\, Amherstburg\, Ontario\, Canada
CATEGORIES:Day Camp,event,new
ATTACH;FMTTYPE=image/png:https://bryerswood.com/wp-content/uploads/2026/02/Cover-Feb.png
END:VEVENT
END:VCALENDAR