BEGIN:VCALENDAR
VERSION:2.0
PRODID:-//Bryerswood Youth Camp Optimist Club - ECPv6.15.20//NONSGML v1.0//EN
CALSCALE:GREGORIAN
METHOD:PUBLISH
X-WR-CALNAME:Bryerswood Youth Camp Optimist Club
X-ORIGINAL-URL:https://bryerswood.com
X-WR-CALDESC:Events for Bryerswood Youth Camp Optimist Club
REFRESH-INTERVAL;VALUE=DURATION:PT1H
X-Robots-Tag:noindex
X-PUBLISHED-TTL:PT1H
BEGIN:VTIMEZONE
TZID:America/Toronto
BEGIN:DAYLIGHT
TZOFFSETFROM:-0500
TZOFFSETTO:-0400
TZNAME:EDT
DTSTART:20240310T070000
END:DAYLIGHT
BEGIN:STANDARD
TZOFFSETFROM:-0400
TZOFFSETTO:-0500
TZNAME:EST
DTSTART:20241103T060000
END:STANDARD
BEGIN:DAYLIGHT
TZOFFSETFROM:-0500
TZOFFSETTO:-0400
TZNAME:EDT
DTSTART:20250309T070000
END:DAYLIGHT
BEGIN:STANDARD
TZOFFSETFROM:-0400
TZOFFSETTO:-0500
TZNAME:EST
DTSTART:20251102T060000
END:STANDARD
BEGIN:DAYLIGHT
TZOFFSETFROM:-0500
TZOFFSETTO:-0400
TZNAME:EDT
DTSTART:20260308T070000
END:DAYLIGHT
BEGIN:STANDARD
TZOFFSETFROM:-0400
TZOFFSETTO:-0500
TZNAME:EST
DTSTART:20261101T060000
END:STANDARD
END:VTIMEZONE
BEGIN:VEVENT
DTSTART;TZID=America/Toronto:20250701T090000
DTEND;TZID=America/Toronto:20250701T100000
DTSTAMP:20260424T114834
CREATED:20250331T175752Z
LAST-MODIFIED:20250601T010014Z
UID:5443-1751360400-1751364000@bryerswood.com
SUMMARY:Amherstburg Canada DayRun/Walk/Wheel 2025
DESCRIPTION:Amherstburg’s 5km Run/Walk/Wheel! \n\n\n\n \n\n\n\n\n\n\n\nCome on out to beautiful historic Amherstburg. Participate in our Canada Day 5km Run/Walk/Wheel and Kids dash. Join our community as we kick off an entire day filled with fun in our timeless town. \n\n\n\nWhen: July 1\, 2025 9:00amWhere: 100 Laird Ave (in front of Fort Malden) \n\n\n\nTo Register: https://raceroster.com/events/2025/99590/amherstburg-canada-day-runwalkwheel-2025 \n\n\n\nALL Registrants will receive a medal and adults will receive a shirt guaranteed if you register by May 1. \n\n\n\nLast year this race had over 900 participants. Arguably one of the most exciting\, spirited races in Windsor-Essex County. The course takes your through Amherstburg’s historic downtown core\, get cooled off by our local firefighters\, hundreds of fans cheering\, and every dollar raised goes back to LOCAL charities. Last year we were able to donate $24\,100 back to our community all by having fun! \n\n\n\nHelp support Bryerswood Youth Camp\, one of the beneficiaries of the run\, by participating in this great event.
URL:https://bryerswood.com/event/amherstburg-canada-dayrun-walk-wheel-2025/
LOCATION:100 Laird Avenue Amherstburg\, 100 Laird Avenue\, Amherstburg\, ON\, Canada
CATEGORIES:2025 Event,new,Outdoor Events
ATTACH;FMTTYPE=image/png:https://bryerswood.com/wp-content/uploads/2025/03/Screenshot-2025-03-31-133820.png
END:VEVENT
END:VCALENDAR