BEGIN:VCALENDAR
VERSION:2.0
PRODID:-//Bryerswood Youth Camp Optimist Club - ECPv6.15.20//NONSGML v1.0//EN
CALSCALE:GREGORIAN
METHOD:PUBLISH
X-ORIGINAL-URL:https://bryerswood.com
X-WR-CALDESC:Events for Bryerswood Youth Camp Optimist Club
REFRESH-INTERVAL;VALUE=DURATION:PT1H
X-Robots-Tag:noindex
X-PUBLISHED-TTL:PT1H
BEGIN:VTIMEZONE
TZID:America/Toronto
BEGIN:DAYLIGHT
TZOFFSETFROM:-0500
TZOFFSETTO:-0400
TZNAME:EDT
DTSTART:20240310T070000
END:DAYLIGHT
BEGIN:STANDARD
TZOFFSETFROM:-0400
TZOFFSETTO:-0500
TZNAME:EST
DTSTART:20241103T060000
END:STANDARD
BEGIN:DAYLIGHT
TZOFFSETFROM:-0500
TZOFFSETTO:-0400
TZNAME:EDT
DTSTART:20250309T070000
END:DAYLIGHT
BEGIN:STANDARD
TZOFFSETFROM:-0400
TZOFFSETTO:-0500
TZNAME:EST
DTSTART:20251102T060000
END:STANDARD
BEGIN:DAYLIGHT
TZOFFSETFROM:-0500
TZOFFSETTO:-0400
TZNAME:EDT
DTSTART:20260308T070000
END:DAYLIGHT
BEGIN:STANDARD
TZOFFSETFROM:-0400
TZOFFSETTO:-0500
TZNAME:EST
DTSTART:20261101T060000
END:STANDARD
END:VTIMEZONE
BEGIN:VEVENT
DTSTART;TZID=America/Toronto:20250401T000000
DTEND;TZID=America/Toronto:20250423T235959
DTSTAMP:20260424T155628
CREATED:20250331T172439Z
LAST-MODIFIED:20250331T172443Z
UID:5434-1743465600-1745452799@bryerswood.com
SUMMARY:Flowers and Plants from Anna's Garden\, Home & Wellness
DESCRIPTION:We have partnered with Anna’s Garden\, Home & Wellness for a Spring Flower and Plant fundraiser. \n\n\n\nYou can shop online https://shopannas.ca/collections/bryerswood-youth-camp-optimist-club or shop in the store and tell them you are supporting Bryerswood. There will be a sign with a QR code instore.  You can scan the code and see what items are available that support Bryerswood.  \n\n\n\nA portion of all sales support Bryerswood Youth Camp. There are 28 different products to choose from. \n\n\n\nOnline orders can be picked up at the camp during Earth Day celebrations on April 26 from 10 to 2. If you need a different date/time\, please contact us.
URL:https://bryerswood.com/event/flowers-and-plants-from-annas-garden-home-wellness/
LOCATION:Anna’s Garden\, Home & Wellness\, 1911 Seacliff Dr\, Kingsville\, On\, N9Y 2N3\, Canada
CATEGORIES:2025 Event,new
ATTACH;FMTTYPE=image/png:https://bryerswood.com/wp-content/uploads/2025/03/Screenshot-2025-03-31-102206.png
ORGANIZER;CN="bryerswood youth camp":MAILTO:info@bryerswood.com
END:VEVENT
END:VCALENDAR