BEGIN:VCALENDAR
VERSION:2.0
PRODID:-//Bryerswood Youth Camp Optimist Club - ECPv6.15.20//NONSGML v1.0//EN
CALSCALE:GREGORIAN
METHOD:PUBLISH
X-ORIGINAL-URL:https://bryerswood.com
X-WR-CALDESC:Events for Bryerswood Youth Camp Optimist Club
REFRESH-INTERVAL;VALUE=DURATION:PT1H
X-Robots-Tag:noindex
X-PUBLISHED-TTL:PT1H
BEGIN:VTIMEZONE
TZID:America/Toronto
BEGIN:DAYLIGHT
TZOFFSETFROM:-0500
TZOFFSETTO:-0400
TZNAME:EDT
DTSTART:20230312T070000
END:DAYLIGHT
BEGIN:STANDARD
TZOFFSETFROM:-0400
TZOFFSETTO:-0500
TZNAME:EST
DTSTART:20231105T060000
END:STANDARD
BEGIN:DAYLIGHT
TZOFFSETFROM:-0500
TZOFFSETTO:-0400
TZNAME:EDT
DTSTART:20240310T070000
END:DAYLIGHT
BEGIN:STANDARD
TZOFFSETFROM:-0400
TZOFFSETTO:-0500
TZNAME:EST
DTSTART:20241103T060000
END:STANDARD
BEGIN:DAYLIGHT
TZOFFSETFROM:-0500
TZOFFSETTO:-0400
TZNAME:EDT
DTSTART:20250309T070000
END:DAYLIGHT
BEGIN:STANDARD
TZOFFSETFROM:-0400
TZOFFSETTO:-0500
TZNAME:EST
DTSTART:20251102T060000
END:STANDARD
END:VTIMEZONE
BEGIN:VEVENT
DTSTART;TZID=America/Toronto:20241122T173000
DTEND;TZID=America/Toronto:20241124T203000
DTSTAMP:20260424T223749
CREATED:20241118T171926Z
LAST-MODIFIED:20241118T171933Z
UID:5272-1732296600-1732480200@bryerswood.com
SUMMARY:Gingerbread Warming House Hot Chocolate
DESCRIPTION:During the AMHERSTBURG RIVER LIGHTS FESTIVAL the GINGERBREAD WARMING HOUSE is open from 5:30 to 8:30 on weekend nights. \n\n\n\nCome out and enjoy a Hot Chocolate served up by Bryerswood Youth Camp Optimist Club. \n\n\n\nThe Gingerbread Warming House is open every Friday\, Saturday and Sunday until December 22. \n\n\n\nMeet Santa after the parade on November 23.
URL:https://bryerswood.com/event/gingerbread-warming-house-hot-chocolate-2/
LOCATION:Gingerbread Warming House\, 50 North Street\, Amherstburg
CATEGORIES:2024 Event,new
ATTACH;FMTTYPE=image/jpeg:https://bryerswood.com/wp-content/uploads/2024/11/20241103_1412401-scaled.jpg
END:VEVENT
END:VCALENDAR