BEGIN:VCALENDAR
VERSION:2.0
PRODID:-//Bryerswood Youth Camp Optimist Club - ECPv6.15.20//NONSGML v1.0//EN
CALSCALE:GREGORIAN
METHOD:PUBLISH
X-WR-CALNAME:Bryerswood Youth Camp Optimist Club
X-ORIGINAL-URL:https://bryerswood.com
X-WR-CALDESC:Events for Bryerswood Youth Camp Optimist Club
REFRESH-INTERVAL;VALUE=DURATION:PT1H
X-Robots-Tag:noindex
X-PUBLISHED-TTL:PT1H
BEGIN:VTIMEZONE
TZID:America/Toronto
BEGIN:DAYLIGHT
TZOFFSETFROM:-0500
TZOFFSETTO:-0400
TZNAME:EDT
DTSTART:20230312T070000
END:DAYLIGHT
BEGIN:STANDARD
TZOFFSETFROM:-0400
TZOFFSETTO:-0500
TZNAME:EST
DTSTART:20231105T060000
END:STANDARD
BEGIN:DAYLIGHT
TZOFFSETFROM:-0500
TZOFFSETTO:-0400
TZNAME:EDT
DTSTART:20240310T070000
END:DAYLIGHT
BEGIN:STANDARD
TZOFFSETFROM:-0400
TZOFFSETTO:-0500
TZNAME:EST
DTSTART:20241103T060000
END:STANDARD
BEGIN:DAYLIGHT
TZOFFSETFROM:-0500
TZOFFSETTO:-0400
TZNAME:EDT
DTSTART:20250309T070000
END:DAYLIGHT
BEGIN:STANDARD
TZOFFSETFROM:-0400
TZOFFSETTO:-0500
TZNAME:EST
DTSTART:20251102T060000
END:STANDARD
END:VTIMEZONE
BEGIN:VEVENT
DTSTART;TZID=America/Toronto:20240403T170000
DTEND;TZID=America/Toronto:20240403T190000
DTSTAMP:20260425T065653
CREATED:20240322T191309Z
LAST-MODIFIED:20240322T191320Z
UID:5003-1712163600-1712170800@bryerswood.com
SUMMARY:Volunteer Recruitment Fair
DESCRIPTION:Looking to give back to your communtiy? \n\n\n\nLooking for something to do? \n\n\n\n\n\n\n\nNeed Community Service hours? \n\n\n\nCome meet with local non-profit organizations and learn about opportunities
URL:https://bryerswood.com/event/volunteer-recruitment-fair/
LOCATION:Amherstburg Community Services\, 320 Richmond St\, Amherstburg\, ON\, Canada
CATEGORIES:2024 Event,event,new
END:VEVENT
BEGIN:VEVENT
DTSTART;TZID=America/Toronto:20240408T120000
DTEND;TZID=America/Toronto:20240408T180000
DTSTAMP:20260425T065653
CREATED:20240322T192139Z
LAST-MODIFIED:20240401T142941Z
UID:5009-1712577600-1712599200@bryerswood.com
SUMMARY:Solar Eclipse Details Update
DESCRIPTION:It’s going to be a once-in-a-lifetime Solar Spectacle!! \n\n\n\nLooking for somewhere wide open in the county to experience this incredible Total Solar Eclipse on April 8th? Well\, bring yourself and the kids to this free and fun event located at GL Heritage Brewing Company and co-hosted by neighbouring Bryerswood Youth Camp! \n\n\n\nOn the 99.9% path of totality\, we will be open from 12-6pm on Monday\, April 8th to host a fun and interactive\, family-friendly viewing party on the expansive grassed grounds of the brewery. Feel free to bring your lawn chairs or blankets to settle in for this unique event. \n\n\n\nAmherstburg’s Nat’s Wraps & Apps Food Truck will be on site all afternoon serving up a great menu for purchase\, solar glasses will be available for just $3 each (while supplies last)\, and yes\, the brewery will be open to offer beer\, seltzer\, pop\, water and juice for purchase. \n\n\n\nBryerswood Youth Camp Volunteer Coordinators will be setting up various free interactive games\, cooperative activities\, crafts\, including the chance to make eclipse models\, throughout the afternoon. \n\n\n\nWe will also have a retired educator on microphone intermittently to share the status of\, and science behind\, what’s occurring up in the sky and it’s impact to us and nature here on earth. \n\n\n\nA new local radio station in Essex County\, CKRT Border City Radio\, will be set up and interviewing guests while broadcasting live on site. \n\n\n\nSo\, join us by reserving your free spot for the afternoon and be sure to select if you need us to reserve solar glasses for you or your crew! \n\n\n\nNOTES: \n\n\n\n \n\n\n\n\nReserve your Free spot: https://www.eventbrite.ca/e/free-total-solar-eclipse-viewing-party-at-gl-heritage-brewery-tickets-870568021387?aff=oddtdtcreator\n\n\n\nGL Heritage Brewery is pet-friendly\, however\, you must maintain pets on a leash at all times\, and clean up after them. Please consider that others (especially children) may have allergies and/or fears around animals. Additionally\, you may decide to maintain your pets in a shaded area so as to protect their eyes during the eclipse.\n\n\n\nParking is first come\, first served\n\n\n\nNo outside food or alcohol permitted on brewery property\n\n\n\nTaps for craft beer and hard seltzer will be open. Please drink responsibly
URL:https://bryerswood.com/event/solar-eclipse/
LOCATION:8728 Howard Avenue\, Amherstburg
CATEGORIES:2024 Event,event,new
ATTACH;FMTTYPE=image/png:https://bryerswood.com/wp-content/uploads/2024/03/Solar-Eclipse-April-8.png
END:VEVENT
BEGIN:VEVENT
DTSTART;TZID=America/Toronto:20240420T100000
DTEND;TZID=America/Toronto:20240420T130000
DTSTAMP:20260425T065653
CREATED:20240404T152825Z
LAST-MODIFIED:20240404T152833Z
UID:5022-1713607200-1713618000@bryerswood.com
SUMMARY:Earth Day
DESCRIPTION:Join us as we celebrate Earth Day. \n\n\n\nSave up the 4L Outside Milk Bags and donate them for a recycled craft. Please make sure they are dry inside. \n\n\n\nBring your Used Household Batteries and we will recycle with Call2Recycle \n\n\n\nTalk to owners about what it is like to drive an Electric Vehicle \n\n\n\nLearn about Composting Worms \n\n\n\nHelp plant a Pollinator Garden.
URL:https://bryerswood.com/event/earth-day-2/
LOCATION:Bryerswood Youth Camp\, 6480 Texas Road\, Amherstburg\, Ontario\, Canada
CATEGORIES:2024 Event,event,new
ATTACH;FMTTYPE=image/png:https://bryerswood.com/wp-content/uploads/2022/02/image.png
END:VEVENT
END:VCALENDAR