BEGIN:VCALENDAR
VERSION:2.0
PRODID:-//Bryerswood Youth Camp Optimist Club - ECPv6.15.20//NONSGML v1.0//EN
CALSCALE:GREGORIAN
METHOD:PUBLISH
X-WR-CALNAME:Bryerswood Youth Camp Optimist Club
X-ORIGINAL-URL:https://bryerswood.com
X-WR-CALDESC:Events for Bryerswood Youth Camp Optimist Club
REFRESH-INTERVAL;VALUE=DURATION:PT1H
X-Robots-Tag:noindex
X-PUBLISHED-TTL:PT1H
BEGIN:VTIMEZONE
TZID:America/Toronto
BEGIN:DAYLIGHT
TZOFFSETFROM:-0500
TZOFFSETTO:-0400
TZNAME:EDT
DTSTART:20220313T070000
END:DAYLIGHT
BEGIN:STANDARD
TZOFFSETFROM:-0400
TZOFFSETTO:-0500
TZNAME:EST
DTSTART:20221106T060000
END:STANDARD
BEGIN:DAYLIGHT
TZOFFSETFROM:-0500
TZOFFSETTO:-0400
TZNAME:EDT
DTSTART:20230312T070000
END:DAYLIGHT
BEGIN:STANDARD
TZOFFSETFROM:-0400
TZOFFSETTO:-0500
TZNAME:EST
DTSTART:20231105T060000
END:STANDARD
BEGIN:DAYLIGHT
TZOFFSETFROM:-0500
TZOFFSETTO:-0400
TZNAME:EDT
DTSTART:20240310T070000
END:DAYLIGHT
BEGIN:STANDARD
TZOFFSETFROM:-0400
TZOFFSETTO:-0500
TZNAME:EST
DTSTART:20241103T060000
END:STANDARD
END:VTIMEZONE
BEGIN:VEVENT
DTSTART;TZID=America/Toronto:20231215T170000
DTEND;TZID=America/Toronto:20231215T210000
DTSTAMP:20260425T114515
CREATED:20231203T004605Z
LAST-MODIFIED:20231203T004609Z
UID:4890-1702659600-1702674000@bryerswood.com
SUMMARY:Cookies & Hot Cocoa - Session 1
DESCRIPTION:Activities Include: \n\n\n\nDecorating Cookies \n\n\n\nMaking No-Bake Treats \n\n\n\nCrafts \n\n\n\nGames \n\n\n\nWear your best Ugly Sweater \n\n\n\nThis is a great opportunity for parents to go out or go shopping without their children
URL:https://bryerswood.com/event/cookies-hot-cocoa-session-1/
LOCATION:Bryerswood Youth Camp\, 6480 Texas Road\, Amherstburg\, Ontario\, Canada
CATEGORIES:2023 Event,event,new
END:VEVENT
BEGIN:VEVENT
DTSTART;TZID=America/Toronto:20231216T120000
DTEND;TZID=America/Toronto:20231216T160000
DTSTAMP:20260425T114515
CREATED:20231203T005450Z
LAST-MODIFIED:20231203T005603Z
UID:4895-1702728000-1702742400@bryerswood.com
SUMMARY:Cookies & Hot Cocoa - Session 2
DESCRIPTION:Activities Include: \n\n\n\nCookie Decorating \n\n\n\nMaking No-Bake Treats \n\n\n\nCrafts \n\n\n\nGames \n\n\n\nWear your best Ugly Sweater \n\n\n\nThis is a great opportunity for parents to go out or go shopping without their children
URL:https://bryerswood.com/event/cookies-hot-cocoa-session-2/
LOCATION:Bryerswood Youth Camp\, 6480 Texas Road\, Amherstburg\, Ontario\, Canada
CATEGORIES:2023 Event,event,new
END:VEVENT
END:VCALENDAR